BEGIN:VCALENDAR
VERSION:2.0
PRODID:-//Museum of Durham History//NONSGML Events//EN
METHOD:REQUEST
BEGIN:VEVENT
UID:20260423T095147-151022060-modh
DTSTAMP:20260423T095147
DTSTART:20160115T173000
DTEND:20160115T203000
SUMMARY:Durham Rotary Exhibit Opening
DESCRIPTION:The Rotary Club of Durham’s 100th anniversary is commemorated in this new Our Bull City exhibit. Join us for the opening party on this Third Friday.
END:VEVENT
END:VCALENDAR
