BEGIN:VCALENDAR
VERSION:2.0
PRODID:-//Museum of Durham History//NONSGML Events//EN
METHOD:REQUEST
BEGIN:VEVENT
UID:20260423T100400-687248809-modh
DTSTAMP:20260423T100400
DTSTART:20151218T170000
DTEND:20151218T203000
SUMMARY:Caroling Under The Gazebo
DESCRIPTION:What better way to usher in the season than with a little singing? All are welcome to join in as we sing the songs of the season for this very special Third Friday, 6-8PM. No prior choir experience necessary! We’ll also have FREE hot cider and homemade cookies on hand,...
END:VEVENT
END:VCALENDAR
