BEGIN:VCALENDAR
VERSION:2.0
PRODID:-//Museum of Durham History//NONSGML Events//EN
METHOD:REQUEST
BEGIN:VEVENT
UID:20260423T095253-392244831-modh
DTSTAMP:20260423T095253
DTSTART:20151202T100000
DTEND:20151202T170000
SUMMARY:Cider and Cookies at the Hub
DESCRIPTION:Enjoy FREE hot cider and homemade cookies every day of December (oh, what the heck, let’s start with Small Business Saturday!) during the holiday season. Some cookies use vintage recipes; all are baked with love by volunteers. Historic cookies will feature the Duke Toll House recipe, a longtime...
END:VEVENT
END:VCALENDAR
