BEGIN:VCALENDAR
VERSION:2.0
PRODID:-//Museum of Durham History//NONSGML Events//EN
METHOD:REQUEST
BEGIN:VEVENT
UID:20260423T095252-1199145981-modh
DTSTAMP:20260423T095252
DTSTART:20151120T170000
DTEND:20151120T200000
SUMMARY:Third Friday- Buskers Under the Gazebo
DESCRIPTION:The sounds of Third Friday continue even as the air turns chilly! The November installment features Durham-based brother and sister violin duo Elena & Oskar Schulmeister-Antona. This gifted pair are among the youngest buskers ever to perform for Third Friday. Check out these old souls channeling Joplin...
END:VEVENT
END:VCALENDAR
