BEGIN:VCALENDAR
VERSION:2.0
PRODID:-//Museum of Durham History//NONSGML Events//EN
METHOD:REQUEST
BEGIN:VEVENT
UID:20260423T081418-653197014-modh
DTSTAMP:20260423T081418
DTSTART:20151121T000000
DTEND:20151121T000000
SUMMARY:Durham Art Walk Holiday Market
DESCRIPTION:  Jewelry Boutique at the Hub Nov. 21 & 22!  For the second year in a row, we transform into a bazaar of handmade jewelry, as local artisans join us as part of the Durham Arts Council’s Art Walk Holiday Market. We are honored to bring back the...
END:VEVENT
END:VCALENDAR
