BEGIN:VCALENDAR
VERSION:2.0
PRODID:-//Museum of Durham History//NONSGML Events//EN
METHOD:REQUEST
BEGIN:VEVENT
UID:20260424T111627-224533332-modh
DTSTAMP:20260424T111627
DTSTART:20260428T093000
DTEND:20260428T130000
SUMMARY:Durham Bull&#8217;s Education Day
DESCRIPTION:Take yourself out to the ballgame with with Museum of Durham History, as we team up with the Durham Bull’s for their Education Day! Gates open at 9:30 for you to check out all the amazing local educational institutions — just like us! We will be there showing off some...
END:VEVENT
END:VCALENDAR
