BEGIN:VCALENDAR
VERSION:2.0
PRODID:-//Museum of Durham History//NONSGML Events//EN
METHOD:REQUEST
BEGIN:VEVENT
UID:20260424T111746-1228077881-modh
DTSTAMP:20260424T111746
DTSTART:20260429T113000
DTEND:20260429T123000
SUMMARY:Museum of Life and Science Story Time
DESCRIPTION:Join the Museum of Durham History for an exciting Story Time adventure at the Museum of Life and Science at 11:30am, Wednesday, April 29th! Hear the inspirational story of Augusta Baker, a Black librarian who fought for positive representation of Black culture in children’s books, and the power that storytelling...
END:VEVENT
END:VCALENDAR
