BEGIN:VCALENDAR
VERSION:2.0
PRODID:-//Museum of Durham History//NONSGML Events//EN
METHOD:REQUEST
BEGIN:VEVENT
UID:20260423T081515-58866530-modh
DTSTAMP:20260423T081515
DTSTART:20260312T190000
DTEND:20260312T203000
SUMMARY:RTP and Durham History Trivia Night with Bull City Discovery Society!
DESCRIPTION:Join us at Glass Jug Beer Lab from 7:00-8:30pm for an exciting RTP and Durham History Trivia Night with Bull City Discovery Society! Compete with friends and meet new folks while you enjoy some fantastic drinks and show off your Durham knowledge. Plus the top 3 winners of each round will...
END:VEVENT
END:VCALENDAR
