BEGIN:VCALENDAR
VERSION:2.0
PRODID:-//Museum of Durham History//NONSGML Events//EN
METHOD:REQUEST
BEGIN:VEVENT
UID:20260423T100518-996798255-modh
DTSTAMP:20260423T100518
DTSTART:20251209T180000
DTEND:20251209T190000
SUMMARY:Partner Event: &#8220;Brodie Duke: The Man, The Myth, The Truth&#8221; Book Talk with Cora Darrah
DESCRIPTION:The Museum of Durham History is proud to partner with Preservation Durham for the History Among Friends Book Talk Series. Join us as local historian and author, Cora Darrah, discusses her new book Brodie Duke: The Man, The Myth, The Truth. Learn...
END:VEVENT
END:VCALENDAR
