BEGIN:VCALENDAR
VERSION:2.0
PRODID:-//Museum of Durham History//NONSGML Events//EN
METHOD:REQUEST
BEGIN:VEVENT
UID:20260423T100518-2000671397-modh
DTSTAMP:20260423T100518
DTSTART:20251222T100000
DTEND:20251222T050000
SUMMARY:Cider and Cookies for the Holiday Season 11/28 &#8211; 12/22
DESCRIPTION:The Museum is gearing up for a festive season by bringing back a holiday favorite, starting on Black Friday: FREE cookies and hot cider every Friday through Sunday from Nov. 28–Dec. 21. Stop by, warm up, and enjoy the season with us. And that’s just the start— As we head...
END:VEVENT
END:VCALENDAR
