BEGIN:VCALENDAR
VERSION:2.0
PRODID:-//Museum of Durham History//NONSGML Events//EN
METHOD:REQUEST
BEGIN:VEVENT
UID:20260423T100626-1804761668-modh
DTSTAMP:20260423T100626
DTSTART:20251030T180000
DTEND:20251030T193000
SUMMARY:Partner Event: Durham Arts &#038; Culture Candidate Forum
DESCRIPTION:Join in on the Durham Arts & Culture Candidates Forum: Come hear from local mayoral and city council candidates as they share their views on arts funding, public art, cultural equity, and more. Thursday, October 30 | 6:00–7:30 PM EST...
END:VEVENT
END:VCALENDAR
