BEGIN:VCALENDAR
VERSION:2.0
PRODID:-//Museum of Durham History//NONSGML Events//EN
METHOD:REQUEST
BEGIN:VEVENT
UID:20260423T094132-156309722-modh
DTSTAMP:20260423T094132
DTSTART:20251118T180000
DTEND:20251118T200000
SUMMARY:Partner event: Preservation Durham Annual Party
DESCRIPTION:We’re celebrating being one of this year’s Preservation Durham Award of Merit winners, alongside our partners at the Friends of Geer Cemetery, for Unearthing Stories of Geer Cemetery: Using Archaeology to Reclaim, Restore, and Respect Sacred Space.
END:VEVENT
END:VCALENDAR
