BEGIN:VCALENDAR
VERSION:2.0
PRODID:-//Museum of Durham History//NONSGML Events//EN
METHOD:REQUEST
BEGIN:VEVENT
UID:20260423T100523-1946572818-modh
DTSTAMP:20260423T100523
DTSTART:20250917T173000
DTEND:20250917T190000
SUMMARY:Business After Hours with the Museum of Durham History
DESCRIPTION:Step into history and connection at this month’s Business After Hours, hosted by the Museum of Durham History! This is your chance to mix and mingle with Durham Chamber of Commerce members while exploring one of Durhams unique cultural gems.   PLEASE REGISTER FOR THIS...
END:VEVENT
END:VCALENDAR
