BEGIN:VCALENDAR
VERSION:2.0
PRODID:-//Museum of Durham History//NONSGML Events//EN
METHOD:REQUEST
BEGIN:VEVENT
UID:20260423T100511-841953065-modh
DTSTAMP:20260423T100511
DTSTART:20250927T080000
DTEND:20250927T120000
SUMMARY:Join us at the Durham Farmers’ Market!
DESCRIPTION:The Museum of Durham History is joining the Durham Farmers’ Market and the Black Farmers’ Market for the 2025 season! The Museum of Durham History is hitting the road! As part of our Faces of Durham traveling exhibit, and...
END:VEVENT
END:VCALENDAR
