BEGIN:VCALENDAR
VERSION:2.0
PRODID:-//Museum of Durham History//NONSGML Events//EN
METHOD:REQUEST
BEGIN:VEVENT
UID:20260423T100518-1630265735-modh
DTSTAMP:20260423T100518
DTSTART:20250907T010000
DTEND:20250907T040000
SUMMARY:Join us at the Black Farmers’ Market!
DESCRIPTION:The Museum of Durham History is joining the Durham Farmers’ Market and the Black Farmers’ Market for the 2025 season! The Museum of Durham History is hitting the road! As part of our Faces of Durham traveling exhibit, with generous...
END:VEVENT
END:VCALENDAR
