BEGIN:VCALENDAR
VERSION:2.0
PRODID:-//Museum of Durham History//NONSGML Events//EN
METHOD:REQUEST
BEGIN:VEVENT
UID:20260423T074928-1394217233-modh
DTSTAMP:20260423T074928
DTSTART:20251011T100000
DTEND:20251011T120000
SUMMARY:Geer Cemetery Autumn Tour
DESCRIPTION:DELAYED DUE TO WEATHER! Rescheduled from September 27th: join Friends of Geer Cemetery, Preservation Durham, and Museum of Durham History on October 11th for a tour of Geer Cemetery as we continue to celebrate the Unearthing Stories of Geer Cemetery exhibit at the Museum of Durham...
END:VEVENT
END:VCALENDAR
