BEGIN:VCALENDAR
VERSION:2.0
PRODID:-//Museum of Durham History//NONSGML Events//EN
METHOD:REQUEST
BEGIN:VEVENT
UID:20260423T100344-1501598696-modh
DTSTAMP:20260423T100344
DTSTART:20250712T080000
DTEND:20250712T123000
SUMMARY:Join us at the Durham Farmers&#8217; Market!
DESCRIPTION:The Museum of Durham History is joining the Durham Farmers’ Market and the Black Farmers’ Market for the 2025 season! The Museum of Durham History is hitting the road! As part of our Faces of Durham traveling exhibit, and...
END:VEVENT
END:VCALENDAR
