BEGIN:VCALENDAR
VERSION:2.0
PRODID:-//Museum of Durham History//NONSGML Events//EN
METHOD:REQUEST
BEGIN:VEVENT
UID:20260423T100512-1800124398-modh
DTSTAMP:20260423T100512
DTSTART:20250614T100000
DTEND:20250614T120000
SUMMARY:Geer Cemetery Community Restoration Annual Event
DESCRIPTION:Join us for a powerful day of history, art, and restoration at Geer Cemetery. This event invites the community to honor the lives of those laid to rest, learn about ongoing preservation efforts, and celebrate Black heritage through meaningful experiences. The day will include an ancestral libation ceremony,...
END:VEVENT
END:VCALENDAR
