BEGIN:VCALENDAR
VERSION:2.0
PRODID:-//Museum of Durham History//NONSGML Events//EN
METHOD:REQUEST
BEGIN:VEVENT
UID:20260423T100137-993643079-modh
DTSTAMP:20260423T100137
DTSTART:20250718T180000
DTEND:20250718T200000
SUMMARY:Day of Honor: Geer Cemetery Banner Exhibit Opening Event
DESCRIPTION:The Museum of Durham History, in partnership with Friends of Geer Cemetery (FOGC), is proud to announce the next phase of its ongoing exhibition Unearthing Stories of Geer Cemetery: Using Archaeology to Reclaim, Restore, and Respect Sacred Space. The latest installment, Day of Honor Posts, opens Friday, July...
END:VEVENT
END:VCALENDAR
