BEGIN:VCALENDAR
VERSION:2.0
PRODID:-//Museum of Durham History//NONSGML Events//EN
METHOD:REQUEST
BEGIN:VEVENT
UID:20260423T114212-1201819299-modh
DTSTAMP:20260423T114212
DTSTART:20250602T183000
DTEND:20250602T200000
SUMMARY:Cemetery Citizens: Author Talk with Adam Rosenblatt
DESCRIPTION:Join the Museum of Durham History, Preservation Durham, and Friends of Geer Cemetery for a FREE conversation between Adam Rosenblatt, PhD and Debra Taylor Gonzalez-Garcia, as they discuss his book, Cemetery Citizens: Reclaiming...
END:VEVENT
END:VCALENDAR
