BEGIN:VCALENDAR
VERSION:2.0
PRODID:-//Museum of Durham History//NONSGML Events//EN
METHOD:REQUEST
BEGIN:VEVENT
UID:20260423T100518-878354126-modh
DTSTAMP:20260423T100518
DTSTART:20250524T090000
DTEND:20250524T110000
SUMMARY:Friends of Geer Cemetery  Day of Service
DESCRIPTION:Please join Friends of Geer Cemetery members in maintaining the Historic Geer Cemetery.  Volunteers will be picking up branches, cutting vines, and removing leaves in this historic cemetery. Bringing rakes, leaf blowers, and tarps is appreciated. Please wear close-toed shoes and gloves. For additional information send an email to ...
END:VEVENT
END:VCALENDAR
