BEGIN:VCALENDAR
VERSION:2.0
PRODID:-//Museum of Durham History//NONSGML Events//EN
METHOD:REQUEST
BEGIN:VEVENT
UID:20260423T113257-1452970925-modh
DTSTAMP:20260423T113257
DTSTART:20250524T080000
DTEND:20250524T123000
SUMMARY:Join the MoDH at Local Farmers&#8217; Markets!
DESCRIPTION:The Museum of Durham History is joining the Durham Farmers’ Market and the Black Farmers’ Market for the 2025 season! The Museum of Durham History is hitting the road! As part of our Faces of Durham traveling exhibit, and...
END:VEVENT
END:VCALENDAR
