BEGIN:VCALENDAR
VERSION:2.0
PRODID:-//Museum of Durham History//NONSGML Events//EN
METHOD:REQUEST
BEGIN:VEVENT
UID:20260423T100255-1235390352-modh
DTSTAMP:20260423T100255
DTSTART:20250425T180000
DTEND:20250425T200000
SUMMARY:Upcoming Exhibit: Unearthing Stories of Geer Cemetery
DESCRIPTION:The Museum of Durham History, in partnership with the Friends of Geer Cemetery, is proud to present Unearthing Stories of Geer Cemetery: Using Archaeology to Reclaim, Restore, and Respect Sacred Space. This powerful exhibit explores how archaeological discoveries at Geer Cemetery have uncovered long-forgotten artifacts, shedding light on the...
END:VEVENT
END:VCALENDAR
